BEGIN:VCALENDAR
VERSION:2.0
PRODID:-//Zeefdrukles - ECPv6.15.20//NONSGML v1.0//EN
CALSCALE:GREGORIAN
METHOD:PUBLISH
X-WR-CALNAME:Zeefdrukles
X-ORIGINAL-URL:https://www.zeefdrukles.nl/cursussen
X-WR-CALDESC:Evenementen voor Zeefdrukles
REFRESH-INTERVAL;VALUE=DURATION:PT1H
X-Robots-Tag:noindex
X-PUBLISHED-TTL:PT1H
BEGIN:VTIMEZONE
TZID:UTC
BEGIN:STANDARD
TZOFFSETFROM:+0000
TZOFFSETTO:+0000
TZNAME:UTC
DTSTART:20250101T000000
END:STANDARD
END:VTIMEZONE
BEGIN:VEVENT
DTSTART;TZID=UTC:20260605T090000
DTEND;TZID=UTC:20260605T130000
DTSTAMP:20260420T061834
CREATED:20251220T235040Z
LAST-MODIFIED:20251220T235141Z
UID:10000550-1780650000-1780664400@www.zeefdrukles.nl
SUMMARY:Open werkplaats op vrijdagochtend
DESCRIPTION:De open werkplaats is voor mensen die bij Zeefdrukles een basiscursus hebben gevolgd en die zelfstandig kunnen werken. Je kunt aan de slag met je eigen project.\nLees hier meer over de opzet van de open werkplaats. \nDeze Open Werkplaats duurt 6 uur\, van 9-13u. Zelf lunch meenemen. \nOp de open werkplaats ben ik vaak ook zelf aan het werk. Je kunt me af en toe best wat vragen\, maar ik verwacht dat je zelfstandig aan de slag kunt. Houd daarom hiermee rekening als je komt: \n\nAls je iets uitgeprint wil hebben op transparant om te belichten\, lever dat dan uiterlijk de avond van tevoren aan vóór 20u. Geef duidelijk aan hoe groot je het uitgeprint wil hebben (in cm\, niet “het moet op een tasje”). Resolutie 200 tot 300 dpi\, per kleur een apart bestand met die kleur in 100% zwart\, geen grijstonen. Raster maximaal 30 lpi. Kan je zelf niet rasteren (foto omzetten in punten)\, geef dan aan of je een grover of fijner raster wil.\nJe brengt zelf de fotocoat aan op de ramen die je gebruikt. Het is handig om dat gelijk aan het begin te doen want het moet ruim een half uur drogen. Als je niet weet of je een fijnere of grovere zeef nodig hebt\, overleg dat dan aan het begin.\nGebruik maximaal 2 ramen tegelijk. Meer ramen nodig? Dan eerste de eerste weer schoonmaken en de fotocoat verwijderen.\nTijdens de open werkplaats houd je zelf op het werkplaats formuliertje bij hoeveel inkt (afwegen)\, papier\, ramen en ander materiaal je gebruikt. Aan het eind rekenen we af\, je kunt pinnen.\nAls je aan het drukken bent: zorg dat je je papier of textiel waarop je gaat drukken alvast klaar hebt liggen en werk door. Laat de inkt in je zeef niet indrogen.\nAan het einde van de les maak je de ramen weer helemaal schoon: inkt en fotecoat er helemaal af. Zorg dat je op tijd begint met schoonmaken\, minstens 15 minuten voor het einde. Zeker als je raam ingedroogd is of als je een restafbeelding hebt\, dan ben je nog wel even bezig met schoonmaken. Laat even zien dat je raam schoon is.\nRamen die nog niet goed schoon zijn moet ik later zelf schoonmaken. Dat is ook mijn hobby niet 🙂 dus ik reken daar vanaf 25\,- euro voor voor de tijd en de chemie\, afhankelijk van hoe lang ik ermee bezig ben.\nWerktafel\, transparante positioneervellen en gereedschap zelf schoonmaken. Ja óók die spatel die je nog bij de inkten of die rakel die je nog in de wasbak had laten liggen :-). En natuurlijk haal je de tape\, papier en klodders inkt uit de spoel- en wasbakken. Dan heeft de zeefdrukker na jou weer een frisse start.
URL:https://www.zeefdrukles.nl/cursussen/cursus/open-werkplaats-op-vrijdagochtend5juni2026/
LOCATION:Zeefdrukles\, Veemkade 570\, Amsterdam\, 1019BL\, Nederland
CATEGORIES:ochtend open werkplaats,open werkplaats,voor ervaren drukkers
ATTACH;FMTTYPE=image/jpeg:https://www.zeefdrukles.nl/wp-content/uploads/2025/06/Header_OpenWerkplaats.jpg
ORGANIZER;CN="Zeefdrukles":MAILTO:esther@zeefdrukles.nl
GEO:52.3759286;4.9278907
X-APPLE-STRUCTURED-LOCATION;VALUE=URI;X-ADDRESS=Zeefdrukles Veemkade 570 Amsterdam 1019BL Nederland;X-APPLE-RADIUS=500;X-TITLE=Veemkade 570:geo:4.9278907,52.3759286
END:VEVENT
BEGIN:VEVENT
DTSTART;TZID=UTC:20260612T090000
DTEND;TZID=UTC:20260612T130000
DTSTAMP:20260420T061834
CREATED:20251220T235341Z
LAST-MODIFIED:20251220T235341Z
UID:10000551-1781254800-1781269200@www.zeefdrukles.nl
SUMMARY:Open werkplaats op vrijdagochtend
DESCRIPTION:De open werkplaats is voor mensen die bij Zeefdrukles een basiscursus hebben gevolgd en die zelfstandig kunnen werken. Je kunt aan de slag met je eigen project.\nLees hier meer over de opzet van de open werkplaats. \nDeze Open Werkplaats duurt 6 uur\, van 09-13. Zelf lunch meenemen. \nOp de open werkplaats ben ik vaak ook zelf aan het werk. Je kunt me af en toe best wat vragen\, maar ik verwacht dat je zelfstandig aan de slag kunt. Houd daarom hiermee rekening als je komt: \n\nAls je iets uitgeprint wil hebben op transparant om te belichten\, lever dat dan uiterlijk de avond van tevoren aan vóór 20u. Geef duidelijk aan hoe groot je het uitgeprint wil hebben (in cm\, niet “het moet op een tasje”). Resolutie 200 tot 300 dpi\, per kleur een apart bestand met die kleur in 100% zwart\, geen grijstonen. Raster maximaal 30 lpi. Kan je zelf niet rasteren (foto omzetten in punten)\, geef dan aan of je een grover of fijner raster wil.\nJe brengt zelf de fotocoat aan op de ramen die je gebruikt. Het is handig om dat gelijk aan het begin te doen want het moet ruim een half uur drogen. Als je niet weet of je een fijnere of grovere zeef nodig hebt\, overleg dat dan aan het begin.\nGebruik maximaal 2 ramen tegelijk. Meer ramen nodig? Dan eerste de eerste weer schoonmaken en de fotocoat verwijderen.\nTijdens de open werkplaats houd je zelf op het werkplaats formuliertje bij hoeveel inkt (afwegen)\, papier\, ramen en ander materiaal je gebruikt. Aan het eind rekenen we af\, je kunt pinnen.\nAls je aan het drukken bent: zorg dat je je papier of textiel waarop je gaat drukken alvast klaar hebt liggen en werk door. Laat de inkt in je zeef niet indrogen.\nAan het einde van de les maak je de ramen weer helemaal schoon: inkt en fotecoat er helemaal af. Zorg dat je op tijd begint met schoonmaken\, minstens 15 minuten voor het einde. Zeker als je raam ingedroogd is of als je een restafbeelding hebt\, dan ben je nog wel even bezig met schoonmaken. Laat even zien dat je raam schoon is.\nRamen die nog niet goed schoon zijn moet ik later zelf schoonmaken. Dat is ook mijn hobby niet 🙂 dus ik reken daar vanaf 25\,- euro voor voor de tijd en de chemie\, afhankelijk van hoe lang ik ermee bezig ben.\nWerktafel\, transparante positioneervellen en gereedschap zelf schoonmaken. Ja óók die spatel die je nog bij de inkten of die rakel die je nog in de wasbak had laten liggen :-). En natuurlijk haal je de tape\, papier en klodders inkt uit de spoel- en wasbakken. Dan heeft de zeefdrukker na jou weer een frisse start.
URL:https://www.zeefdrukles.nl/cursussen/cursus/open-werkplaats-op-vrijdagochtend12juni2026/
LOCATION:Zeefdrukles\, Veemkade 570\, Amsterdam\, 1019BL\, Nederland
CATEGORIES:ochtend open werkplaats,open werkplaats,voor ervaren drukkers
ATTACH;FMTTYPE=image/jpeg:https://www.zeefdrukles.nl/wp-content/uploads/2025/06/Header_OpenWerkplaats.jpg
ORGANIZER;CN="Zeefdrukles":MAILTO:esther@zeefdrukles.nl
GEO:52.3759286;4.9278907
X-APPLE-STRUCTURED-LOCATION;VALUE=URI;X-ADDRESS=Zeefdrukles Veemkade 570 Amsterdam 1019BL Nederland;X-APPLE-RADIUS=500;X-TITLE=Veemkade 570:geo:4.9278907,52.3759286
END:VEVENT
END:VCALENDAR