BEGIN:VCALENDAR
VERSION:2.0
PRODID:-//Zeefdrukles - ECPv6.15.20//NONSGML v1.0//EN
CALSCALE:GREGORIAN
METHOD:PUBLISH
X-WR-CALNAME:Zeefdrukles
X-ORIGINAL-URL:https://www.zeefdrukles.nl/cursussen
X-WR-CALDESC:Evenementen voor Zeefdrukles
REFRESH-INTERVAL;VALUE=DURATION:PT1H
X-Robots-Tag:noindex
X-PUBLISHED-TTL:PT1H
BEGIN:VTIMEZONE
TZID:UTC
BEGIN:STANDARD
TZOFFSETFROM:+0000
TZOFFSETTO:+0000
TZNAME:UTC
DTSTART:20250101T000000
END:STANDARD
END:VTIMEZONE
BEGIN:VEVENT
DTSTART;TZID=UTC:20260219T190000
DTEND;TZID=UTC:20260219T220000
DTSTAMP:20260420T160621
CREATED:20251020T212303Z
LAST-MODIFIED:20260219T080141Z
UID:10000538-1771527600-1771538400@www.zeefdrukles.nl
SUMMARY:OneNightStand 7:Zeefdruk belicht experiment
DESCRIPTION:De OneNightStands vormen een serie intensieve\, korte en krachtige avondcursussen waarin je telkens op een andere manier grafisch aan de slag gaat. De eerste serie vond afgelopen herfst plaats\, en dat smaakte naar meer.\nDe tweede serie OneNightStands vindt plaats in januari en februari 2026\, nu op donderdagavonden. De opzet van de workshops is wat aangepast. Zo duren ze nu en half uurtje langer\, van 19 tot 22 uur\, want 2\,5 uur bleek toch net te kort. En het zijn nu 7 workshops in plaats van 10. Maar er komt v0or de zomer nog een extra serie\, met deels nieuwe workshops. \nDit zijn de One Night stands van de tweede serie: \n\nT-shirt bedrukken  donderdag 8 januari 19:00 – 22:00\nMaak een eigen ontwerp en zeefdruk dat op een T-shirt\nSchilderachtig zeefdrukken  donderdag 15 janauri 19:00 – 22:00\nSchilder direct op de zeef en maak een serie unieke afdrukken\nZeefdrukken met patronen  donderdag 22 januari 19:00 – 22:00\nOntwerp je eigen patroon en zeefdruk het op verschillende soorten papier\n\nCollage  donderdag 29 januari 19:00 – 22:00\nCombineer allerlei papier en prints en bouw je eigen beeld op\nHandlettering & zeefdruk  donderdag 5 februari 19:00 – 22:00\nTeken een eigen tekst en druk die in 1 of 2 lagen af op verschillende soorten papier\nGelprint donderdag 12 februari 19:00 – 22:00\nMaak gelaagde afdrukken met gelli plates op verschillende soorten papier\nBelicht experiment  donderdag 19 februari 19:00 – 22:00\nGebruik allerlei voorwerpen en materialen om een zeefraam mee te belichten\, en maak afdrukken met die vormen.\n\nBelicht experiment\nJe hoeft niets voor te bereiden. Doe kleding aan die vies mag worden\, de inkt kan vlekken – al heb ik natuurlijk wel een schort voor je. Na een korte uitleg ga je zelf aan de slag. \nJe kunt zeefdrukramen belichten met alles dat licht tegenhoudt – en onder het raam past en het niet beschadigd. We gaan met onverwachte materialen berlichten en vervolgens afdrukken maken. \nKosten\nIn de prijs inbegrepen zijn 10 vellen papier\, de inkten en het gebruik van zeefdrukramen\, rakels en chemie. Als je heel snel werkt en je gebruikt meer dan de uitgereikte 10 stuks papier dan kan dat\, dat reken je dan met me af – je kunt pinnen.\nDe koffie\, thee en koekjes zijn gratis. \nInschrijven\nJe kunt je voor één of voor meer OneNightStands inschrijven – klik op de links hierboven om bij de andere OneNightStands te komen. Voor 1 OneNightStand betaal je € 60 per stuk\, voor 2 € 56\, voor 3 of 4 € 52\,  voor 5 en 6 € 48 en voor 7 OneNightStands betaal je € 44 per stuk. De korting geldt alleen als je ze in één keer boekt.\nAnnuleren (per mail) kan tot 2 weken voor aanvang. Als je korter dan 1 week voor aanvang annuleert dan krijg je 50% terug. Bij annulering korten dan 1 week voor aanvang krijg je helaas niets meer terug. Als je niet kan komen kan je iemand anders met jouw ticket deel laten nemen. Laat me dat dan wel even weten\, dan kan ik eventuele informatie over de workshop naar de juiste persoon mailen. \nAnders dan bij een échte one night stand hoop ik natuurlijk dat je daarna nog eens terugkomt voor een cursus. Maar dat hoeft niet :-).
URL:https://www.zeefdrukles.nl/cursussen/cursus/onenightstand-7zeefdruk-belicht-experiment/
LOCATION:Zeefdrukles\, Veemkade 570\, Amsterdam\, 1019BL\, Nederland
CATEGORIES:geen ervaring vereist,OneNightStand,OneNightStand serie 2
ATTACH;FMTTYPE=image/jpeg:https://www.zeefdrukles.nl/wp-content/uploads/2025/10/ONS_serie2_7_belicht-experiment.jpg
ORGANIZER;CN="Zeefdrukles":MAILTO:esther@zeefdrukles.nl
GEO:52.3759286;4.9278907
X-APPLE-STRUCTURED-LOCATION;VALUE=URI;X-ADDRESS=Zeefdrukles Veemkade 570 Amsterdam 1019BL Nederland;X-APPLE-RADIUS=500;X-TITLE=Veemkade 570:geo:4.9278907,52.3759286
END:VEVENT
BEGIN:VEVENT
DTSTART;TZID=UTC:20260212T190000
DTEND;TZID=UTC:20260212T220000
DTSTAMP:20260420T160621
CREATED:20251020T212307Z
LAST-MODIFIED:20260115T170257Z
UID:10000537-1770922800-1770933600@www.zeefdrukles.nl
SUMMARY:OneNightStand 6:Gelprint
DESCRIPTION:De OneNightStands vormen een serie intensieve\, korte en krachtige avondcursussen waarin je telkens op een andere manier grafisch aan de slag gaat. De eerste serie vond afgelopen herfst plaats\, en dat smaakte naar meer.\nDe tweede serie OneNightStands vindt plaats in januari en februari 2026\, nu op donderdagavonden. De opzet van de workshops is wat aangepast. Zo duren ze nu en half uurtje langer\, van 19 tot 22 uur\, want 2\,5 uur bleek toch net te kort. En het zijn nu 7 workshops in plaats van 10. Maar er komt v0or de zomer nog een extra serie\, met deels nieuwe workshops. \nDit zijn de One Night stands van de tweede serie: \n\nT-shirt bedrukken  donderdag 8 januari 19:00 – 22:00\nMaak een eigen ontwerp en zeefdruk dat op een T-shirt\nSchilderachtig zeefdrukken  donderdag 15 janauri 19:00 – 22:00\nSchilder direct op de zeef en maak een serie unieke afdrukken\nZeefdrukken met patronen  donderdag 22 januari 19:00 – 22:00\nOntwerp je eigen patroon en zeefdruk het op verschillende soorten papier\n\nCollage  donderdag 29 januari 19:00 – 22:00\nCombineer allerlei papier en prints en bouw je eigen beeld op\nHandlettering & zeefdruk  donderdag 5 februari 19:00 – 22:00\nTeken een eigen tekst en druk die in 1 of 2 lagen af op verschillende soorten papier\nGelprint donderdag 12 februari 19:00 – 22:00\nMaak gelaagde afdrukken met gelli plates op verschillende soorten papier\nBelicht experiment  donderdag 19 februari 19:00 – 22:00\nGebruik allerlei voorwerpen en materialen om een zeefraam mee te belichten\, en maak afdrukken met die vormen.\n\nGelprint\nJe hoeft niets voor te bereiden. Doe kleding aan die vies mag worden\, de inkt kan vlekken – al heb ik natuurlijk wel een schort voor je. Na een korte uitleg ga je zelf aan de slag. \nWe gaan gelaagde afdrukken makken met gelli plates. Met een paar tips heb je zo een aantal interessante afdrukken. \nKosten\nIn de prijs inbegrepen zijn 10 vellen papier\, de inkten en het gebruik van zeefdrukramen\, rakels en chemie. Als je heel snel werkt en je gebruikt meer dan de uitgereikte 10 stuks papier dan kan dat\, dat reken je dan met me af – je kunt pinnen.\nDe koffie\, thee en koekjes zijn gratis. \nInschrijven\nJe kunt je voor één of voor meer OneNightStands inschrijven – klik op de links hierboven om bij de andere OneNightStands te komen. Voor 1 OneNightStand betaal je € 60 per stuk\, voor 2 € 56\, voor 3 of 4 € 52\,  voor 5 en 6 € 48 en voor 7 OneNightStands betaal je € 44 per stuk. De korting geldt alleen als je ze in één keer boekt.\nAnnuleren (per mail) kan tot 2 weken voor aanvang. Als je korter dan 1 week voor aanvang annuleert dan krijg je 50% terug. Bij annulering korten dan 1 week voor aanvang krijg je helaas niets meer terug. Als je niet kan komen kan je iemand anders met jouw ticket deel laten nemen. Laat me dat dan wel even weten\, dan kan ik eventuele informatie over de workshop naar de juiste persoon mailen. \nAnders dan bij een échte one night stand hoop ik natuurlijk dat je daarna nog eens terugkomt voor een cursus. Maar dat hoeft niet :-).
URL:https://www.zeefdrukles.nl/cursussen/cursus/onenightstand-6gelprint/
LOCATION:Zeefdrukles\, Veemkade 570\, Amsterdam\, 1019BL\, Nederland
CATEGORIES:geen ervaring vereist,OneNightStand,OneNightStand serie 2
ATTACH;FMTTYPE=image/jpeg:https://www.zeefdrukles.nl/wp-content/uploads/2025/10/ONS_serie2_6_gelprints.jpg
ORGANIZER;CN="Zeefdrukles":MAILTO:esther@zeefdrukles.nl
GEO:52.3759286;4.9278907
X-APPLE-STRUCTURED-LOCATION;VALUE=URI;X-ADDRESS=Zeefdrukles Veemkade 570 Amsterdam 1019BL Nederland;X-APPLE-RADIUS=500;X-TITLE=Veemkade 570:geo:4.9278907,52.3759286
END:VEVENT
BEGIN:VEVENT
DTSTART;TZID=UTC:20260205T190000
DTEND;TZID=UTC:20260205T220000
DTSTAMP:20260420T160621
CREATED:20251020T212310Z
LAST-MODIFIED:20260203T190608Z
UID:10000536-1770318000-1770328800@www.zeefdrukles.nl
SUMMARY:OneNightStand 5:Handlettering & zeefdruk
DESCRIPTION:De OneNightStands vormen een serie intensieve\, korte en krachtige avondcursussen waarin je telkens op een andere manier grafisch aan de slag gaat. De eerste serie vond afgelopen herfst plaats\, en dat smaakte naar meer.\nDe tweede serie OneNightStands vindt plaats in januari en februari 2026\, nu op donderdagavonden. De opzet van de workshops is wat aangepast. Zo duren ze nu en half uurtje langer\, van 19 tot 22 uur\, want 2\,5 uur bleek toch net te kort. En het zijn nu 7 workshops in plaats van 10. Maar er komt v0or de zomer nog een extra serie\, met deels nieuwe workshops. \nDit zijn de One Night stands van de tweede serie: \n\nT-shirt bedrukken  donderdag 8 januari 19:00 – 22:00\nMaak een eigen ontwerp en zeefdruk dat op een T-shirt\nSchilderachtig zeefdrukken  donderdag 15 janauri 19:00 – 22:00\nSchilder direct op de zeef en maak een serie unieke afdrukken\nZeefdrukken met patronen  donderdag 22 januari 19:00 – 22:00\nOntwerp je eigen patroon en zeefdruk het op verschillende soorten papier\n\nCollage  donderdag 29 januari 19:00 – 22:00\nCombineer allerlei papier en prints en bouw je eigen beeld op\nHandlettering & zeefdruk  donderdag 5 februari 19:00 – 22:00\nTeken een eigen tekst en druk die in 1 of 2 lagen af op verschillende soorten papier\nGelprint donderdag 12 februari 19:00 – 22:00\nMaak gelaagde afdrukken met gelli plates op verschillende soorten papier\nBelicht experiment  donderdag 19 februari 19:00 – 22:00\nGebruik allerlei voorwerpen en materialen om een zeefraam mee te belichten\, en maak afdrukken met die vormen.\n\nHandlettering & zeefdruk\nJe hoeft niets voor te bereiden. Doe kleding aan die vies mag worden\, de inkt kan vlekken – al heb ik natuurlijk wel een schort voor je. Na een korte uitleg ga je zelf aan de slag. \nJe schrijft/tekent een eigen tekst\, we oefenen eerst met wat stijlen en gereedschappen. Die tekst ga je vervolgens zeefdrukken. \nKosten\nIn de prijs inbegrepen zijn 10 vellen papier\, de inkten en het gebruik van zeefdrukramen\, rakels en chemie. Als je heel snel werkt en je gebruikt meer dan de uitgereikte 10 stuks papier dan kan dat\, dat reken je dan met me af – je kunt pinnen.\nDe koffie\, thee en koekjes zijn gratis. \nInschrijven\nJe kunt je voor één of voor meer OneNightStands inschrijven – klik op de links hierboven om bij de andere OneNightStands te komen. Voor 1 OneNightStand betaal je € 60 per stuk\, voor 2 € 56\, voor 3 of 4 € 52\,  voor 5 en 6 € 48 en voor 7 OneNightStands betaal je € 44 per stuk. De korting geldt alleen als je ze in één keer boekt.\nAnnuleren (per mail) kan tot 2 weken voor aanvang. Als je korter dan 1 week voor aanvang annuleert dan krijg je 50% terug. Bij annulering korten dan 1 week voor aanvang krijg je helaas niets meer terug. Als je niet kan komen kan je iemand anders met jouw ticket deel laten nemen. Laat me dat dan wel even weten\, dan kan ik eventuele informatie over de workshop naar de juiste persoon mailen. \nAnders dan bij een échte one night stand hoop ik natuurlijk dat je daarna nog eens terugkomt voor een cursus. Maar dat hoeft niet :-).
URL:https://www.zeefdrukles.nl/cursussen/cursus/ons5_handlettering_5febr2026/
LOCATION:Zeefdrukles\, Veemkade 570\, Amsterdam\, 1019BL\, Nederland
CATEGORIES:geen ervaring vereist,OneNightStand,OneNightStand serie 2
ATTACH;FMTTYPE=image/jpeg:https://www.zeefdrukles.nl/wp-content/uploads/2025/10/ONS_serie2_5_handlettering.jpg
ORGANIZER;CN="Zeefdrukles":MAILTO:esther@zeefdrukles.nl
GEO:52.3759286;4.9278907
X-APPLE-STRUCTURED-LOCATION;VALUE=URI;X-ADDRESS=Zeefdrukles Veemkade 570 Amsterdam 1019BL Nederland;X-APPLE-RADIUS=500;X-TITLE=Veemkade 570:geo:4.9278907,52.3759286
END:VEVENT
BEGIN:VEVENT
DTSTART;TZID=UTC:20260129T190000
DTEND;TZID=UTC:20260129T220000
DTSTAMP:20260420T160621
CREATED:20251020T212313Z
LAST-MODIFIED:20251020T213053Z
UID:10000535-1769713200-1769724000@www.zeefdrukles.nl
SUMMARY:OneNightStand 4:Collage
DESCRIPTION:De OneNightStands vormen een serie intensieve\, korte en krachtige avondcursussen waarin je telkens op een andere manier grafisch aan de slag gaat. De eerste serie vond afgelopen herfst plaats\, en dat smaakte naar meer.\nDe tweede serie OneNightStands vindt plaats in januari en februari 2026\, nu op donderdagavonden. De opzet van de workshops is wat aangepast. Zo duren ze nu en half uurtje langer\, van 19 tot 22 uur\, want 2\,5 uur bleek toch net te kort. En het zijn nu 7 workshops in plaats van 10. Maar er komt v0or de zomer nog een extra serie\, met deels nieuwe workshops. \nDit zijn de One Night stands van de tweede serie: \n\nT-shirt bedrukken  donderdag 8 januari 19:00 – 22:00\nMaak een eigen ontwerp en zeefdruk dat op een T-shirt\nSchilderachtig zeefdrukken  donderdag 15 janauri 19:00 – 22:00\nSchilder direct op de zeef en maak een serie unieke afdrukken\nZeefdrukken met patronen  donderdag 22 januari 19:00 – 22:00\nOntwerp je eigen patroon en zeefdruk het op verschillende soorten papier\n\nCollage  donderdag 29 januari 19:00 – 22:00\nCombineer allerlei papier en prints en bouw je eigen beeld op\nHandlettering & zeefdruk  donderdag 5 februari 19:00 – 22:00\nTeken een eigen tekst en druk die in 1 of 2 lagen af op verschillende soorten papier\nGelprint donderdag 12 februari 19:00 – 22:00\nMaak gelaagde afdrukken met gelli plates op verschillende soorten papier\nBelicht experiment  donderdag 19 februari 19:00 – 22:00\nGebruik allerlei voorwerpen en materialen om een zeefraam mee te belichten\, en maak afdrukken met die vormen.\n\nCollage\nJe hoeft niets voor te bereiden. Doe kleding aan die vies mag worden\, de inkt kan vlekken – al heb ik natuurlijk wel een schort voor je. Na een korte uitleg ga je zelf aan de slag. \nJe gaat een eigen beeld maken uit allerlei papier en beeldmateriaal. Als je een of meer van de OneNightStands hiervoor gedaan hebt: neem je “misdrukken” mee\, die kunnen van pas komen. \nKosten\nIn de prijs inbegrepen zijn 10 vellen papier\, de inkten en het gebruik van zeefdrukramen\, rakels en chemie. Als je heel snel werkt en je gebruikt meer dan de uitgereikte 10 stuks papier dan kan dat\, dat reken je dan met me af – je kunt pinnen.\nDe koffie\, thee en koekjes zijn gratis. \nInschrijven\nJe kunt je voor één of voor meer OneNightStands inschrijven – klik op de links hierboven om bij de andere OneNightStands te komen. Voor 1 OneNightStand betaal je € 60 per stuk\, voor 2 € 56\, voor 3 of 4 € 52\,  voor 5 en 6 € 48 en voor 7 OneNightStands betaal je € 44 per stuk. De korting geldt alleen als je ze in één keer boekt.\nAnnuleren (per mail) kan tot 2 weken voor aanvang. Als je korter dan 1 week voor aanvang annuleert dan krijg je 50% terug. Bij annulering korten dan 1 week voor aanvang krijg je helaas niets meer terug. Als je niet kan komen kan je iemand anders met jouw ticket deel laten nemen. Laat me dat dan wel even weten\, dan kan ik eventuele informatie over de workshop naar de juiste persoon mailen. \nAnders dan bij een échte one night stand hoop ik natuurlijk dat je daarna nog eens terugkomt voor een cursus. Maar dat hoeft niet :-).
URL:https://www.zeefdrukles.nl/cursussen/cursus/ons4_collage_29jan2026/
LOCATION:Zeefdrukles\, Veemkade 570\, Amsterdam\, 1019BL\, Nederland
CATEGORIES:geen ervaring vereist,OneNightStand,OneNightStand serie 2
ATTACH;FMTTYPE=image/jpeg:https://www.zeefdrukles.nl/wp-content/uploads/2025/10/ONS_serie2_4_collage-1.jpg
ORGANIZER;CN="Zeefdrukles":MAILTO:esther@zeefdrukles.nl
GEO:52.3759286;4.9278907
X-APPLE-STRUCTURED-LOCATION;VALUE=URI;X-ADDRESS=Zeefdrukles Veemkade 570 Amsterdam 1019BL Nederland;X-APPLE-RADIUS=500;X-TITLE=Veemkade 570:geo:4.9278907,52.3759286
END:VEVENT
BEGIN:VEVENT
DTSTART;TZID=UTC:20260122T190000
DTEND;TZID=UTC:20260122T220000
DTSTAMP:20260420T160621
CREATED:20251020T204010Z
LAST-MODIFIED:20260115T170301Z
UID:10000534-1769108400-1769119200@www.zeefdrukles.nl
SUMMARY:OneNightStand 3:Patronen zeefdrukken
DESCRIPTION:De OneNightStands vormen een serie intensieve\, korte en krachtige avondcursussen waarin je telkens op een andere manier grafisch aan de slag gaat. De eerste serie vond afgelopen herfst plaats\, en dat smaakte naar meer.\nDe tweede serie OneNightStands vindt plaats in januari en februari 2026\, nu op donderdagavonden. De opzet van de workshops is wat aangepast. Zo duren ze nu en half uurtje langer\, van 19 tot 22 uur\, want 2\,5 uur bleek toch een beetje te kort. En het zijn nu 7 workshops in plaats van 10. Maar er komt v0or de zomer nog een extra serie. \nDit zijn de One Night stands van de tweede serie: \n\nT-shirt bedrukken  donderdag 8 januari 19:00 – 22:00\nMaak een eigen ontwerp en zeefdruk dat op een T-shirt\nSchilderachtig zeefdrukken  donderdag 15 janauri 19:00 – 22:00\nSchilder direct op de zeef en maak een serie unieke afdrukken\nZeefdrukken met patronen  donderdag 22 januari 19:00 – 22:00\nOntwerp je eigen patroon en zeefdruk het op verschillende soorten papier\n\nCollage  woe 5 nov 19:00 – 21:30\nCombineer allerlei papier en prints en bouw je eigen beeld op\nHandlettering & zeefdruk  woe 15 okt 19:00 – 21:30\nTeken een eigen tekst en druk die af op verschillende soorten papier\nGelprint  woe 1 okt 19:00 – 21:30\nMaak gelaagde afdrukken met gelli plates op verschillende soorten papier\nZeefdruk belicht experiment  woe 24 sept 19:00 – 21:30\nGebruik allerlei voorwerpen en materialen om een zeefraam mee te belichten\, en maak afdrukken\n\nPatronen zeefdrukken\nJe hoeft niets voor te bereiden. Doe kleding aan die vies mag worden\, de inkt kan vlekken – al heb ik natuurlijk wel een schort voor je. Na een korte uitleg ga je zelf aan de slag. \nJe ontwerpt twee verschillende patronen op iets kleiner dan A4 formaat. Die ga je door/over elkaar heen zeefdrukken\, in verschillende kleuren. Door de gelaagdheid krijg je onverwachte en boeiende resultaten. \nKosten\nIn de prijs inbegrepen zijn 10 vellen papier\, de inkten en het gebruik van zeefdrukramen\, rakels en chemie. Als je heel snel werkt en je gebruikt meer dan de uitgereikte 10 stuks papier dan kan dat\, dat reken je dan met me af – je kunt pinnen.\nDe koffie\, thee en koekjes zijn gratis. \nInschrijven\nJe kunt je voor één of voor meer OneNightStands inschrijven – klik op de links hierboven om bij de andere OneNightStands te komen. Voor 1 OneNightStand betaal je € 60 per stuk\, voor 2 € 56\, voor 3 of 4 € 52\,  voor 5 en 6 € 48 en voor 7 OneNightStands betaal je € 44 per stuk. De korting geldt alleen als je ze in één keer boekt.\nAnnuleren (per mail) kan tot 2 weken voor aanvang. Als je korter dan 1 week voor aanvang annuleert dan krijg je 50% terug. Bij annulering korten dan 1 week voor aanvang krijg je helaas niets meer terug. Als je niet kan komen kan je iemand anders met jouw ticket deel laten nemen. Laat me dat dan wel even weten\, dan kan ik eventuele informatie over de workshop naar de juiste persoon mailen. \nAnders dan bij een échte one night stand hoop ik natuurlijk dat je daarna nog eens terugkomt voor een cursus. Maar dat hoeft niet :-).
URL:https://www.zeefdrukles.nl/cursussen/cursus/ons-3patronen-zeefdrukken_22jan2026/
LOCATION:Zeefdrukles\, Veemkade 570\, Amsterdam\, 1019BL\, Nederland
CATEGORIES:geen ervaring vereist,OneNightStand,OneNightStand serie 2
ATTACH;FMTTYPE=image/jpeg:https://www.zeefdrukles.nl/wp-content/uploads/2025/10/ONS_serie2_3_patronen.jpg
ORGANIZER;CN="Zeefdrukles":MAILTO:esther@zeefdrukles.nl
GEO:52.3759286;4.9278907
X-APPLE-STRUCTURED-LOCATION;VALUE=URI;X-ADDRESS=Zeefdrukles Veemkade 570 Amsterdam 1019BL Nederland;X-APPLE-RADIUS=500;X-TITLE=Veemkade 570:geo:4.9278907,52.3759286
END:VEVENT
BEGIN:VEVENT
DTSTART;TZID=UTC:20260115T190000
DTEND;TZID=UTC:20260115T220000
DTSTAMP:20260420T160621
CREATED:20251020T204640Z
LAST-MODIFIED:20251020T213817Z
UID:10000533-1768503600-1768514400@www.zeefdrukles.nl
SUMMARY:OneNightStand 2:Schilderachtig zeefdrukken
DESCRIPTION:De OneNightStands vormen een serie intensieve\, korte en krachtige avondcursussen waarin je telkens op een andere manier grafisch aan de slag gaat. De eerste serie vond afgelopen herfst plaats\, en dat smaakte naar meer.\nDe tweede serie OneNightStands vindt plaats in januari en februari 2026\, nu op donderdagavonden. De opzet van de workshops is wat aangepast. Zo duren ze nu en half uurtje langer\, van 19 tot 22 uur\, want 2\,5 uur bleek toch net te kort. En het zijn nu 7 workshops in plaats van 10. Maar er komt v0or de zomer nog een extra serie\, met deels nieuwe workshops. \nDit zijn de One Night stands van de tweede serie: \n\nT-shirt bedrukken  donderdag 8 januari 19:00 – 22:00\nMaak een eigen ontwerp en zeefdruk dat op een T-shirt\nSchilderachtig zeefdrukken  donderdag 15 janauri 19:00 – 22:00\nSchilder direct op de zeef en maak een serie unieke afdrukken\nZeefdrukken met patronen  donderdag 22 januari 19:00 – 22:00\nOntwerp je eigen patroon en zeefdruk het op verschillende soorten papier\n\nCollage  donderdag 29 januari 19:00 – 22:00\nCombineer allerlei papier en prints en bouw je eigen beeld op\nHandlettering & zeefdruk  donderdag 5 februari 19:00 – 22:00\nTeken een eigen tekst en druk die in 1 of 2 lagen af op verschillende soorten papier\nGelprint donderdag 12 februari 19:00 – 22:00\nMaak gelaagde afdrukken met gelli plates op verschillende soorten papier\nBelicht experiment  donderdag 19 februari 19:00 – 22:00\nGebruik allerlei voorwerpen en materialen om een zeefraam mee te belichten\, en maak afdrukken met die vormen.\n\nSchilderachtig zeefdrukken\n \nJe hoeft niets voor te bereiden. Doe kleding aan die vies mag worden\, de inkt kan vlekken – al heb ik natuurlijk wel een schort voor je. Na een korte uitleg ga je zelf aan de slag. \nJe bepaalt zelf de vorm en kleur\, en je maakt afdrukken op A3 formaat op verschillende soorten papier. Weinig techniek en veel ruimte voor experiment. Laat je verrassen door het toeval. \nKosten\nIn de prijs inbegrepen zijn 10 vellen papier\, de inkten en het gebruik van zeefdrukramen\, rakels en chemie. Als je heel snel werkt en je gebruikt meer dan de uitgereikte 10 stuks papier dan kan dat\, dat reken je dan met me af – je kunt pinnen.\nDe koffie\, thee en koekjes zijn gratis. \nInschrijven\nJe kunt je voor één of voor meer OneNightStands inschrijven – klik op de links hierboven om bij de andere OneNightStands te komen. Voor 1 OneNightStand betaal je € 60 per stuk\, voor 2 € 56\, voor 3 of 4 € 52\,  voor 5 en 6 € 48 en voor 7 OneNightStands betaal je € 44 per stuk. De korting geldt alleen als je ze in één keer boekt.\nAnnuleren (per mail) kan tot 2 weken voor aanvang. Als je korter dan 1 week voor aanvang annuleert dan krijg je 50% terug. Bij annulering korten dan 1 week voor aanvang krijg je helaas niets meer terug. Als je niet kan komen kan je iemand anders met jouw ticket deel laten nemen. Laat me dat dan wel even weten\, dan kan ik eventuele informatie over de workshop naar de juiste persoon mailen. \nAnders dan bij een échte one night stand hoop ik natuurlijk dat je daarna nog eens terugkomt voor een cursus. Maar dat hoeft niet :-).
URL:https://www.zeefdrukles.nl/cursussen/cursus/onenightstand-2schilderachtig-zeefdrukken/
LOCATION:Zeefdrukles\, Veemkade 570\, Amsterdam\, 1019BL\, Nederland
CATEGORIES:geen ervaring vereist,OneNightStand,OneNightStand serie 2
ATTACH;FMTTYPE=image/jpeg:https://www.zeefdrukles.nl/wp-content/uploads/2025/10/ONS_serie2_2_schilderachtig.jpg
ORGANIZER;CN="Zeefdrukles":MAILTO:esther@zeefdrukles.nl
GEO:52.3759286;4.9278907
X-APPLE-STRUCTURED-LOCATION;VALUE=URI;X-ADDRESS=Zeefdrukles Veemkade 570 Amsterdam 1019BL Nederland;X-APPLE-RADIUS=500;X-TITLE=Veemkade 570:geo:4.9278907,52.3759286
END:VEVENT
BEGIN:VEVENT
DTSTART;TZID=UTC:20260108T190000
DTEND;TZID=UTC:20260108T220000
DTSTAMP:20260420T160621
CREATED:20251020T201450Z
LAST-MODIFIED:20260106T070710Z
UID:10000532-1767898800-1767909600@www.zeefdrukles.nl
SUMMARY:OneNightStand 1:T-shirt zeefdrukken
DESCRIPTION:De OneNightStands vormen een serie intensieve\, korte en krachtige avondcursussen waarin je telkens op een andere manier grafisch aan de slag gaat. De eerste serie vond afgelopen herfst plaats\, en dat smaakte naar meer.\nDe tweede serie OneNightStands vindt plaats in januari en februari 2026\, nu op donderdagavonden. De opzet van de workshops is wat aangepast. Zo duren ze nu en half uurtje langer\, van 19 tot 22 uur\, want 2\,5 uur bleek toch net te kort. En het zijn nu 7 workshops in plaats van 10. Er komt v0or de zomer nog een extra serie van deze workshops. \nDit zijn de One Night stands van de tweede serie: \n\nT-shirt bedrukken  donderdag 8 januari 19:00 – 22:00\nMaak een eigen ontwerp en zeefdruk dat op een T-shirt\nSchilderachtig zeefdrukken  donderdag 15 janauri 19:00 – 22:00\nSchilder direct op de zeef en maak een serie unieke afdrukken\nZeefdrukken met patronen  donderdag 22 januari 19:00 – 22:00\nOntwerp je eigen patroon en zeefdruk het op verschillende soorten papier\n\nCollage  donderdag 29 januari 19:00 – 22:00\nCombineer allerlei papier en prints en bouw je eigen beeld op\nHandlettering & zeefdruk  donderdag 5 februari 19:00 – 22:00\nTeken een eigen tekst en druk die in 1 of 2 lagen af op verschillende soorten papier\nGelprint donderdag 12 februari 19:00 – 22:00\nMaak gelaagde afdrukken met gelli plates op verschillende soorten papier\nBelicht experiment  donderdag 19 februari 19:00 – 22:00\nGebruik allerlei voorwerpen en materialen om een zeefraam mee te belichten\, en maak afdrukken met die vormen.\n\nT-shirt zeefdrukken\nJe hoeft niets voor te bereiden. Doe kleding aan die vies mag worden\, de inkt kan vlekken – al heb ik natuurlijk wel een schort voor je. Na een korte uitleg ga je zelf aan de slag. \nJe gaat je eigen ontwerp drukken\, in maximaal 2 lagen. \nKosten\nIn de prijs inbegrepen is 1 T-shirt (wit\, korte mouwen\, ronde hals)\, maar neem gerust zelf meer shirts mee\, de inkten en het gebruik van zeefdrukramen\, rakels en chemie. Je kunt eventueel meer T-shirts bij me aanschaffen.\nDe koffie\, thee en koekjes zijn gratis. \nInschrijven\nJe kunt je voor één of voor meer OneNightStands inschrijven – klik op de links hierboven om bij de andere OneNightStands te komen. Voor 1 OneNightStand betaal je € 60 per stuk\, voor 2 € 56\, voor 3 of 4 € 52\,  voor 5 en 6 € 48 en voor 7 OneNightStands betaal je € 44 per stuk. De korting geldt alleen als je ze in één keer boekt.\nAnnuleren (per mail) kan tot 2 weken voor aanvang. Als je korter dan 1 week voor aanvang annuleert dan krijg je 50% terug. Bij annulering korten dan 1 week voor aanvang krijg je helaas niets meer terug. Als je niet kan komen kan je iemand anders met jouw ticket deel laten nemen. Laat me dat dan wel even weten\, dan kan ik eventuele informatie over de workshop naar de juiste persoon mailen. \nAnders dan bij een échte one night stand hoop ik natuurlijk dat je daarna nog eens terugkomt voor een cursus. Maar dat hoeft niet :-).
URL:https://www.zeefdrukles.nl/cursussen/cursus/ons-1-t-shirt-zeefdrukken_8januari2026/
LOCATION:Zeefdrukles\, Veemkade 570\, Amsterdam\, 1019BL\, Nederland
CATEGORIES:OneNightStand serie 2
ATTACH;FMTTYPE=image/jpeg:https://www.zeefdrukles.nl/wp-content/uploads/2025/10/ONS_serie2_1_Tshirt.jpg
ORGANIZER;CN="Zeefdrukles":MAILTO:esther@zeefdrukles.nl
GEO:52.3759286;4.9278907
X-APPLE-STRUCTURED-LOCATION;VALUE=URI;X-ADDRESS=Zeefdrukles Veemkade 570 Amsterdam 1019BL Nederland;X-APPLE-RADIUS=500;X-TITLE=Veemkade 570:geo:4.9278907,52.3759286
END:VEVENT
END:VCALENDAR