BEGIN:VCALENDAR
VERSION:2.0
PRODID:-//Zeefdrukles - ECPv6.15.20//NONSGML v1.0//EN
CALSCALE:GREGORIAN
METHOD:PUBLISH
X-ORIGINAL-URL:https://www.zeefdrukles.nl/cursussen
X-WR-CALDESC:Evenementen voor Zeefdrukles
REFRESH-INTERVAL;VALUE=DURATION:PT1H
X-Robots-Tag:noindex
X-PUBLISHED-TTL:PT1H
BEGIN:VTIMEZONE
TZID:UTC
BEGIN:STANDARD
TZOFFSETFROM:+0000
TZOFFSETTO:+0000
TZNAME:UTC
DTSTART:20230101T000000
END:STANDARD
END:VTIMEZONE
BEGIN:VEVENT
DTSTART;TZID=UTC:20251221T103000
DTEND;TZID=UTC:20251221T160000
DTSTAMP:20260420T142212
CREATED:20250725T181911Z
LAST-MODIFIED:20251121T114223Z
UID:10000507-1766313000-1766332800@www.zeefdrukles.nl
SUMMARY:Handlettering en zeefdrukop zondag in de kerstvakantie
DESCRIPTION:Probeer te schrijven met stiften\, pennen\, penselen en stukken karton en papier. Test verschilende schrijfstijlen (er wordt uitleg en voorbeeld gegegven) en schrijf zelf een tekst. Experimenteer en probeer uit welke uitwerking het beste bij jouw tekst past. De beste ga je zeefdrukken op papier. We bundelen de zeefdrukken in een boekje en iedereen krijgt een exemplaarmee naar huis. \nWe werken met een kleine groep (maximaal 10 cursisten) in een ruime\, goed uitgeruste werkplaats in een historisch pakhuis in Amsterdam. Meenemen: een eigen tekst (of je bedenkt die dag een tekst) en eventueel eigen schrijfgerei. \nErvaring met zeefdruk of handlettering is voor deze workshop niet vereist. De workshop duurt van 10u30 tot ca. 16u.
URL:https://www.zeefdrukles.nl/cursussen/cursus/handlettering-en-zeefdruk-in-de-kerstvakantie_21dec2025/
LOCATION:Zeefdrukles\, Veemkade 570\, Amsterdam\, 1019BL\, Nederland
CATEGORIES:geen ervaring vereist,handlettering
ATTACH;FMTTYPE=image/jpeg:https://www.zeefdrukles.nl/wp-content/uploads/2025/10/Header_Handlettering2.jpg
ORGANIZER;CN="Zeefdrukles":MAILTO:esther@zeefdrukles.nl
GEO:52.3759286;4.9278907
X-APPLE-STRUCTURED-LOCATION;VALUE=URI;X-ADDRESS=Zeefdrukles Veemkade 570 Amsterdam 1019BL Nederland;X-APPLE-RADIUS=500;X-TITLE=Veemkade 570:geo:4.9278907,52.3759286
END:VEVENT
BEGIN:VEVENT
DTSTART;TZID=UTC:20251024T103000
DTEND;TZID=UTC:20251024T160000
DTSTAMP:20260420T142212
CREATED:20250725T181323Z
LAST-MODIFIED:20251020T155537Z
UID:10000506-1761301800-1761321600@www.zeefdrukles.nl
SUMMARY:Handlettering en zeefdrukin de herfstvakantie (vol)
DESCRIPTION:Probeer te schrijven met stiften\, pennen\, penselen en stukken karton en papier. Test verschilende schrijfstijlen (er wordt uitleg en voorbeeld gegegven) en schrijf zelf een tekst. Experimenteer en probeer uit welke uitwerking het beste bij jouw tekst past. De beste ga je zeefdrukken op papier. We bundelen de zeefdrukken in een boekje en iedereen krijgt een exemplaarmee naar huis. \nWe werken met een kleine groep (maximaal 10 cursisten) in een ruime\, goed uitgeruste werkplaats in een historisch pakhuis in Amsterdam. Meenemen: een eigen tekst (of je bedenkt die dag een tekst) en eventueel eigen schrijfgerei. \nErvaring met zeefdruk of handlettering is voor deze workshop niet vereist. De workshop duurt van 10u30 tot ca. 16u.
URL:https://www.zeefdrukles.nl/cursussen/cursus/handlettering-en-zeefdruk_24okt2025/
LOCATION:Zeefdrukles\, Veemkade 570\, Amsterdam\, 1019BL\, Nederland
CATEGORIES:geen ervaring vereist,handlettering
ATTACH;FMTTYPE=image/jpeg:https://www.zeefdrukles.nl/wp-content/uploads/2025/10/Header_Handlettering2.jpg
ORGANIZER;CN="Zeefdrukles":MAILTO:esther@zeefdrukles.nl
GEO:52.3759286;4.9278907
X-APPLE-STRUCTURED-LOCATION;VALUE=URI;X-ADDRESS=Zeefdrukles Veemkade 570 Amsterdam 1019BL Nederland;X-APPLE-RADIUS=500;X-TITLE=Veemkade 570:geo:4.9278907,52.3759286
END:VEVENT
BEGIN:VEVENT
DTSTART;TZID=UTC:20241013T103000
DTEND;TZID=UTC:20241013T160000
DTSTAMP:20260420T142212
CREATED:20240705T151717Z
LAST-MODIFIED:20241005T115103Z
UID:10000400-1728815400-1728835200@www.zeefdrukles.nl
SUMMARY:Handlettering & zeefdruk
DESCRIPTION:Probeer te schrijven met stiften\, pennen\, penselen en stukken karton. Test verschilende schrijfstijlen (er wordt uitleg en voorbeeld gegegven) en schrijf zelf een tekst. Experimenteer en probeer uit welke uitwerking het beste bij jouw tekst past. De beste ga je zeefdrukken op papier. We bundelen de zeefdrukken in een boekje en iedereen krijgt een exemplaar mee naar huis. \nWe werken met een kleine groep (maximaal 10 cursisten) in een ruime\, goed uitgeruste werkplaats in een historisch pakhuis in Amsterdam. Meenemen: een eigen tekst (of je bedenkt die dag een tekst) en eventueel eigen schrijfgerei. \nErvaring met zeefdruk of handlettering is voor deze workshop niet vereist. De workshop duurt van 10u30 tot ca. 16u.
URL:https://www.zeefdrukles.nl/cursussen/cursus/handlettering-zeefdruk_13okt2024/
LOCATION:Zeefdrukles\, Veemkade 570\, Amsterdam\, 1019BL\, Nederland
CATEGORIES:geen ervaring vereist,handlettering
ATTACH;FMTTYPE=image/jpeg:https://www.zeefdrukles.nl/wp-content/uploads/2024/07/Handlettering_1_detail.jpg
ORGANIZER;CN="Zeefdrukles":MAILTO:esther@zeefdrukles.nl
GEO:52.3759286;4.9278907
X-APPLE-STRUCTURED-LOCATION;VALUE=URI;X-ADDRESS=Zeefdrukles Veemkade 570 Amsterdam 1019BL Nederland;X-APPLE-RADIUS=500;X-TITLE=Veemkade 570:geo:4.9278907,52.3759286
END:VEVENT
END:VCALENDAR