BEGIN:VCALENDAR
VERSION:2.0
PRODID:-//Zeefdrukles - ECPv6.15.20//NONSGML v1.0//EN
CALSCALE:GREGORIAN
METHOD:PUBLISH
X-ORIGINAL-URL:https://www.zeefdrukles.nl/cursussen
X-WR-CALDESC:Evenementen voor Zeefdrukles
REFRESH-INTERVAL;VALUE=DURATION:PT1H
X-Robots-Tag:noindex
X-PUBLISHED-TTL:PT1H
BEGIN:VTIMEZONE
TZID:UTC
BEGIN:STANDARD
TZOFFSETFROM:+0000
TZOFFSETTO:+0000
TZNAME:UTC
DTSTART:20250101T000000
END:STANDARD
END:VTIMEZONE
BEGIN:VEVENT
DTSTART;TZID=UTC:20260523T103000
DTEND;TZID=UTC:20260523T160000
DTSTAMP:20260420T043359
CREATED:20251019T214127Z
LAST-MODIFIED:20251019T214127Z
UID:10000521-1779532200-1779552000@www.zeefdrukles.nl
SUMMARY:Warhol foto zeefdruk workshop
DESCRIPTION:Ontdek hoe je net als Andy Warhol met een paar gekleurde vlakken en je eigen foto fantastische zeefdrukken kan maken.\nJe mailt je foto van tevoren zodat die op de workshop klaar is voor gebruik. De tijd is beperkt\, dus je kunt met één foto werken. Doordat je verschillende achtergronden drukt kan je met één foto toch een gevarieerde serie drukken. \nMeer informatie over de foto zeefdruk workshop.\nKan je nu niet\, kijk dan of deze workshop later nog gegeven wordt. \nEr zijn maximaal 10 cursisten.
URL:https://www.zeefdrukles.nl/cursussen/cursus/warhol-foto-zeefdruk-workshop_23mei2026/
LOCATION:Zeefdrukles\, Veemkade 570\, Amsterdam\, 1019BL\, Nederland
CATEGORIES:Foto zeefdruk workshop,geen ervaring vereist
ATTACH;FMTTYPE=image/jpeg:https://www.zeefdrukles.nl/wp-content/uploads/2025/06/Header_Warhol.jpg
ORGANIZER;CN="Zeefdrukles":MAILTO:esther@zeefdrukles.nl
GEO:52.3759286;4.9278907
X-APPLE-STRUCTURED-LOCATION;VALUE=URI;X-ADDRESS=Zeefdrukles Veemkade 570 Amsterdam 1019BL Nederland;X-APPLE-RADIUS=500;X-TITLE=Veemkade 570:geo:4.9278907,52.3759286
END:VEVENT
BEGIN:VEVENT
DTSTART;TZID=UTC:20260718T103000
DTEND;TZID=UTC:20260718T160000
DTSTAMP:20260420T043359
CREATED:20251019T214512Z
LAST-MODIFIED:20251019T214907Z
UID:10000522-1784370600-1784390400@www.zeefdrukles.nl
SUMMARY:Warhol foto zeefdruk workshop
DESCRIPTION:Ontdek hoe je net als Andy Warhol met een paar gekleurde vlakken en je eigen foto fantastische zeefdrukken kan maken.\nJe mailt je foto van tevoren zodat die op de workshop klaar is voor gebruik. De tijd is beperkt\, dus je kunt met één foto werken. Doordat je verschillende achtergronden drukt kan je met één foto toch een gevarieerde serie drukken. \nMeer informatie over de foto zeefdruk workshop.\nKan je nu niet\, kijk dan of deze workshop later nog gegeven wordt. \nEr zijn maximaal 10 cursisten.
URL:https://www.zeefdrukles.nl/cursussen/cursus/warhol-foto-zeefdruk-workshop_18juli2026/
LOCATION:Zeefdrukles\, Veemkade 570\, Amsterdam\, 1019BL\, Nederland
CATEGORIES:Foto zeefdruk workshop,geen ervaring vereist
ATTACH;FMTTYPE=image/jpeg:https://www.zeefdrukles.nl/wp-content/uploads/2025/06/Header_Warhol.jpg
ORGANIZER;CN="Zeefdrukles":MAILTO:esther@zeefdrukles.nl
GEO:52.3759286;4.9278907
X-APPLE-STRUCTURED-LOCATION;VALUE=URI;X-ADDRESS=Zeefdrukles Veemkade 570 Amsterdam 1019BL Nederland;X-APPLE-RADIUS=500;X-TITLE=Veemkade 570:geo:4.9278907,52.3759286
END:VEVENT
END:VCALENDAR