BEGIN:VCALENDAR
VERSION:2.0
PRODID:-//Zeefdrukles - ECPv6.15.20//NONSGML v1.0//EN
CALSCALE:GREGORIAN
METHOD:PUBLISH
X-WR-CALNAME:Zeefdrukles
X-ORIGINAL-URL:https://www.zeefdrukles.nl/cursussen
X-WR-CALDESC:Evenementen voor Zeefdrukles
REFRESH-INTERVAL;VALUE=DURATION:PT1H
X-Robots-Tag:noindex
X-PUBLISHED-TTL:PT1H
BEGIN:VTIMEZONE
TZID:UTC
BEGIN:STANDARD
TZOFFSETFROM:+0000
TZOFFSETTO:+0000
TZNAME:UTC
DTSTART:20240101T000000
END:STANDARD
END:VTIMEZONE
BEGIN:VEVENT
DTSTART;TZID=UTC:20250820T120000
DTEND;TZID=UTC:20250823T220000
DTSTAMP:20260420T142206
CREATED:20250601T190411Z
LAST-MODIFIED:20250602T194422Z
UID:10000478-1755691200-1755986400@www.zeefdrukles.nl
SUMMARY:Expo tijdens SAIL Amsterdam
DESCRIPTION:Als je toch naar SAIL Amsterdam komt\, kom dan ook even binnen bij Zeefdrukles. We zitten naast de mooiste tall ships. Er is een expositie en er zijn zeefdrukken te koop. Ik ben alle dagen aanwezig\, dus als je wil komen kijken\, kom vooral langs! \nWe verkopen ook koffie\, thee en broodjes. \nWe zijn open op woensdag 20\, donderdag 21\, vrijdag 22 en zaterdag 23 augustus 12-22u.
URL:https://www.zeefdrukles.nl/cursussen/cursus/expo-tijdens-sail-amsterdam-29-23aug2025/
LOCATION:Zeefdrukles\, Veemkade 570\, Amsterdam\, 1019BL\, Nederland
CATEGORIES:expositie
ATTACH;FMTTYPE=image/jpeg:https://www.zeefdrukles.nl/wp-content/uploads/2025/06/Header_SAIL25.jpg
ORGANIZER;CN="Zeefdrukles":MAILTO:esther@zeefdrukles.nl
GEO:52.3759286;4.9278907
X-APPLE-STRUCTURED-LOCATION;VALUE=URI;X-ADDRESS=Zeefdrukles Veemkade 570 Amsterdam 1019BL Nederland;X-APPLE-RADIUS=500;X-TITLE=Veemkade 570:geo:4.9278907,52.3759286
END:VEVENT
END:VCALENDAR