BEGIN:VCALENDAR
VERSION:2.0
PRODID:-//Zeefdrukles - ECPv6.15.20//NONSGML v1.0//EN
CALSCALE:GREGORIAN
METHOD:PUBLISH
X-WR-CALNAME:Zeefdrukles
X-ORIGINAL-URL:https://www.zeefdrukles.nl/cursussen
X-WR-CALDESC:Evenementen voor Zeefdrukles
REFRESH-INTERVAL;VALUE=DURATION:PT1H
X-Robots-Tag:noindex
X-PUBLISHED-TTL:PT1H
BEGIN:VTIMEZONE
TZID:UTC
BEGIN:STANDARD
TZOFFSETFROM:+0000
TZOFFSETTO:+0000
TZNAME:UTC
DTSTART:20250101T000000
END:STANDARD
END:VTIMEZONE
BEGIN:VEVENT
DTSTART;TZID=UTC:20260529T140000
DTEND;TZID=UTC:20260529T170000
DTSTAMP:20260420T112435
CREATED:20251019T201235Z
LAST-MODIFIED:20251019T201355Z
UID:10000518-1780063200-1780074000@www.zeefdrukles.nl
SUMMARY:Basiscursus zeefdruk4x op vrijdagmiddag
DESCRIPTION:Leer zeefdrukken met een kleine groep\, in 4 vrijdagmiddagen\, telkens 14-17u. \n\n29 mei 2026\n5 juni\n12 juni\n19 juni\n\nLees meer over alle soorten basiscursussen. \nEr zijn maximaal 10 cursisten. Na deze cursus kan je je inschrijven voor de open werkplaats dagen\, daar kan je zelfstandig werken aan je eigen project. \nZeefdrukken van Michael\n \n  \nJe kunt werken met vlakken\, foto’s en tekeningen.\n  \nJe begint in de basiscursus met het zeefdrukken met sjablonen. Daarna gaan we belichten\, dan kan je fijnere vormen\, lijnen en rasters drukken.\n 
URL:https://www.zeefdrukles.nl/cursussen/cursus/basiscursus-zeefdruk4x-op-vrijdagmiddag_vanaf29mei2026/
LOCATION:Zeefdrukles\, Veemkade 570\, Amsterdam\, 1019BL\, Nederland
CATEGORIES:4 middagen korte basiscursus,basiscursus,geen ervaring vereist
ATTACH;FMTTYPE=image/jpeg:https://www.zeefdrukles.nl/wp-content/uploads/2025/06/Header_Basis.jpg
ORGANIZER;CN="Zeefdrukles":MAILTO:esther@zeefdrukles.nl
GEO:52.3759286;4.9278907
X-APPLE-STRUCTURED-LOCATION;VALUE=URI;X-ADDRESS=Zeefdrukles Veemkade 570 Amsterdam 1019BL Nederland;X-APPLE-RADIUS=500;X-TITLE=Veemkade 570:geo:4.9278907,52.3759286
END:VEVENT
END:VCALENDAR