BEGIN:VCALENDAR
VERSION:2.0
PRODID:-//Zeefdrukles - ECPv6.15.20//NONSGML v1.0//EN
CALSCALE:GREGORIAN
METHOD:PUBLISH
X-WR-CALNAME:Zeefdrukles
X-ORIGINAL-URL:https://www.zeefdrukles.nl/cursussen
X-WR-CALDESC:Evenementen voor Zeefdrukles
REFRESH-INTERVAL;VALUE=DURATION:PT1H
X-Robots-Tag:noindex
X-PUBLISHED-TTL:PT1H
BEGIN:VTIMEZONE
TZID:UTC
BEGIN:STANDARD
TZOFFSETFROM:+0000
TZOFFSETTO:+0000
TZNAME:UTC
DTSTART:20250101T000000
END:STANDARD
END:VTIMEZONE
BEGIN:VEVENT
DTSTART;TZID=UTC:20260425T103000
DTEND;TZID=UTC:20260426T160000
DTSTAMP:20260420T124423
CREATED:20251019T192253Z
LAST-MODIFIED:20251019T192253Z
UID:10000514-1777113000-1777219200@www.zeefdrukles.nl
SUMMARY:Basiscursus zeefdrukken in 2 dagen
DESCRIPTION:Leer zeefdrukken met een kleine groep van maximaal 10 cursisten. Van 10u30 – 16u op zaterdag en zondag.\nLees meer over alle soorten basiscursussen. \nIn deze cursus leer je de basis. Na deze cursus kan je je inschrijven voor de open werkplaats dagen\, daar kan je zelfstandig werken aan je eigen project. \nZeefdrukken van Michael\n \n  \nJe kunt werken met vlakken\, foto’s en tekeningen.\n  \nJe begint in de basiscursus met het zeefdrukken met sjablonen. Daarna gaan we belichten\, dan kan je fijnere vormen\, lijnen en rasters drukken.\n 
URL:https://www.zeefdrukles.nl/cursussen/cursus/basiscursus-zeefdrukken-in-2-dagen_25-26april2026/
LOCATION:Zeefdrukles\, Veemkade 570\, Amsterdam\, 1019BL\, Nederland
CATEGORIES:2-daagse basiscursus,basiscursus,geen ervaring vereist
ATTACH;FMTTYPE=image/jpeg:https://www.zeefdrukles.nl/wp-content/uploads/2025/06/Header_Basis.jpg
ORGANIZER;CN="Zeefdrukles":MAILTO:esther@zeefdrukles.nl
GEO:52.3759286;4.9278907
X-APPLE-STRUCTURED-LOCATION;VALUE=URI;X-ADDRESS=Zeefdrukles Veemkade 570 Amsterdam 1019BL Nederland;X-APPLE-RADIUS=500;X-TITLE=Veemkade 570:geo:4.9278907,52.3759286
END:VEVENT
BEGIN:VEVENT
DTSTART;TZID=UTC:20260514T103000
DTEND;TZID=UTC:20260515T160000
DTSTAMP:20260420T124423
CREATED:20251019T193300Z
LAST-MODIFIED:20260325T073910Z
UID:10000515-1778754600-1778860800@www.zeefdrukles.nl
SUMMARY:Basiscursus zeefdrukken met Hemelvaart
DESCRIPTION:Leer zeefdrukken met een kleine groep van maximaal 10 cursisten. Van 10u30 – 16u op donderdag en vrijdag.\nLees meer over alle soorten basiscursussen. \nIn deze cursus leer je de basis. Na deze cursus kan je je inschrijven voor de open werkplaats dagen\, daar kan je zelfstandig werken aan je eigen project. \nZeefdrukken van Michael\n \n  \nJe kunt werken met vlakken\, foto’s en tekeningen.\n  \nJe begint in de basiscursus met het zeefdrukken met sjablonen. Daarna gaan we belichten\, dan kan je fijnere vormen\, lijnen en rasters drukken.\n 
URL:https://www.zeefdrukles.nl/cursussen/cursus/basiscursus-zeefdrukken-met-hemelvaart_14-15mei2026/
LOCATION:Zeefdrukles\, Veemkade 570\, Amsterdam\, 1019BL\, Nederland
CATEGORIES:2-daagse basiscursus,basiscursus,geen ervaring vereist
ATTACH;FMTTYPE=image/jpeg:https://www.zeefdrukles.nl/wp-content/uploads/2025/06/Header_Basis.jpg
ORGANIZER;CN="Zeefdrukles":MAILTO:esther@zeefdrukles.nl
GEO:52.3759286;4.9278907
X-APPLE-STRUCTURED-LOCATION;VALUE=URI;X-ADDRESS=Zeefdrukles Veemkade 570 Amsterdam 1019BL Nederland;X-APPLE-RADIUS=500;X-TITLE=Veemkade 570:geo:4.9278907,52.3759286
END:VEVENT
BEGIN:VEVENT
DTSTART;TZID=UTC:20260627T103000
DTEND;TZID=UTC:20260628T160000
DTSTAMP:20260420T124423
CREATED:20251019T193808Z
LAST-MODIFIED:20251019T193808Z
UID:10000516-1782556200-1782662400@www.zeefdrukles.nl
SUMMARY:Basiscursus zeefdrukken in 2 dagen
DESCRIPTION:Leer zeefdrukken met een kleine groep van maximaal 10 cursisten. Van 10u30 – 16u op zaterdag en zondag.\nLees meer over alle soorten basiscursussen. \nIn deze cursus leer je de basis. Na deze cursus kan je je inschrijven voor de open werkplaats dagen\, daar kan je zelfstandig werken aan je eigen project. \nZeefdrukken van Michael\n \n  \nJe kunt werken met vlakken\, foto’s en tekeningen.\n  \nJe begint in de basiscursus met het zeefdrukken met sjablonen. Daarna gaan we belichten\, dan kan je fijnere vormen\, lijnen en rasters drukken.\n 
URL:https://www.zeefdrukles.nl/cursussen/cursus/basiscursus-zeefdrukken-in-2-dagen_27-28juni2026/
LOCATION:Zeefdrukles\, Veemkade 570\, Amsterdam\, 1019BL\, Nederland
CATEGORIES:2-daagse basiscursus,basiscursus,geen ervaring vereist
ATTACH;FMTTYPE=image/jpeg:https://www.zeefdrukles.nl/wp-content/uploads/2025/06/Header_Basis.jpg
ORGANIZER;CN="Zeefdrukles":MAILTO:esther@zeefdrukles.nl
GEO:52.3759286;4.9278907
X-APPLE-STRUCTURED-LOCATION;VALUE=URI;X-ADDRESS=Zeefdrukles Veemkade 570 Amsterdam 1019BL Nederland;X-APPLE-RADIUS=500;X-TITLE=Veemkade 570:geo:4.9278907,52.3759286
END:VEVENT
END:VCALENDAR