BEGIN:VCALENDAR
VERSION:2.0
PRODID:-//Zeefdrukles - ECPv6.15.20//NONSGML v1.0//EN
CALSCALE:GREGORIAN
METHOD:PUBLISH
X-ORIGINAL-URL:https://www.zeefdrukles.nl/cursussen
X-WR-CALDESC:Evenementen voor Zeefdrukles
REFRESH-INTERVAL;VALUE=DURATION:PT1H
X-Robots-Tag:noindex
X-PUBLISHED-TTL:PT1H
BEGIN:VTIMEZONE
TZID:UTC
BEGIN:STANDARD
TZOFFSETFROM:+0000
TZOFFSETTO:+0000
TZNAME:UTC
DTSTART:20230101T000000
END:STANDARD
END:VTIMEZONE
BEGIN:VEVENT
DTSTART;TZID=UTC:20250228T100000
DTEND;TZID=UTC:20250228T130000
DTSTAMP:20260420T175405
CREATED:20241215T194230Z
LAST-MODIFIED:20250226T141517Z
UID:10000438-1740736800-1740747600@www.zeefdrukles.nl
SUMMARY:Adobe Illustrator\, Photoshop én zeefdrukken in zes vrijdagochtenden
DESCRIPTION:Deze cursus is voor mensen die al een beetje of nog niet handig zijn met Illustrator en Photoshop\, en die willen leren hoe ze eigen ontwerpen kunnen maken\, met name voor zeefdruk. Je leert een aantal basisvaardigheden\, weetjes en handigheidjes zodat je in staat bent om redelijk complexe ontwerpen in elkaar te zetten – al kan je natuurlijk niet alles leren in een paar lessen. Maar met een beetje basis handigheid is het makkelijker om hierna zelf verder te leren. \nWe kijken naar hoe je ontwerpen kunt voorbereiden voor zeefdruk\, want we zitten tenslotte midden in een zeefdruk werkplaats. In ieder geval de laatste les – op vrijdagochtend 4 april – ga je een eigen ontwerp zeefdrukken in 2 lagen/kleuren.\nHierna kan je echter nog niet zelfstandig zeefdrukken\, daarvoor heb je een zeefdruk basiscursus nodig. \nDeze cursus vindt plaats op zes vrijdagochtenden\, telkens 10-13u: \n\nVrijdagochtend 28 februari 2025\nVrijdagochtend 7 maart\nVrijdagochtend 14 maart\nVrijdagochtend 21 maart\nVrijdagochtend 28 maart\nVrijdagochtend 4 april\n\nJe kunt fantastische strakke vormen maken met Adobe Illustrator\, maar het is – zeker in het begin – niet een programma dat je makkelijk oppakt. Met Adobe Photoshop kan je foto’s rasteren (grijstinten omzetten in punten) of omzetten naar alleen wit en 100% zwart\, zodat je ze kunt zeefdrukken. Scan tekeningen in en bewerk ze. Combineer alles naar eigen smaak en inzicht. Met Illustrator en Photoshop zijn de mogelijkheden eindeloos. \nNeem zelf een laptop mee (mac of windows) met daarop Adobe Illustrator en Photoshop al geïnstalleerd\, liefst de meest recente versie. Misschien heb je nog een studerend neefje of nichtje met een goedkopere studentlicentie? 🙂 \nWe beginnen bij de basis\, en elke week is er een klein opdrachtje om te oefenen wat je net geleerd hebt. Ook wordt er voor inspiratie gekeken naar het werk van hedendaagse ontwerpers. Omdat we een kleine groep hebben – maximaal 8 cursisten – is er ruim de gelegenheid voor persoonlijke begeleiding en aandacht. \nEsther is behalve zeefdrukker ook grafisch ontwerper sinds 1992\, en ze geeft les op het Mediacollege Amsterdam. Ze is dus ervaren in het werken met en het uitleggen van Illustrator en Photoshop.
URL:https://www.zeefdrukles.nl/cursussen/cursus/adobe-illustrator-photoshop-en-zeefdrukken-vanaf28febr2025/
LOCATION:Zeefdrukles\, Veemkade 570\, Amsterdam\, 1019BL\, Nederland
CATEGORIES:Adobe Illustrator,Adobe Photoshop,geen ervaring vereist
ATTACH;FMTTYPE=image/jpeg:https://www.zeefdrukles.nl/wp-content/uploads/2024/05/Ontwerpen-voor-zeefdruk_tegels-illustrator-1-scaled-1.jpg
ORGANIZER;CN="Zeefdrukles":MAILTO:esther@zeefdrukles.nl
GEO:52.3759286;4.9278907
X-APPLE-STRUCTURED-LOCATION;VALUE=URI;X-ADDRESS=Zeefdrukles Veemkade 570 Amsterdam 1019BL Nederland;X-APPLE-RADIUS=500;X-TITLE=Veemkade 570:geo:4.9278907,52.3759286
END:VEVENT
BEGIN:VEVENT
DTSTART;TZID=UTC:20240920T100000
DTEND;TZID=UTC:20240920T130000
DTSTAMP:20260420T175405
CREATED:20240526T150736Z
LAST-MODIFIED:20240705T150019Z
UID:10000395-1726826400-1726837200@www.zeefdrukles.nl
SUMMARY:Adobe Illustrator\, Photoshop én zeefdrukken in zes vrijdagochtenden
DESCRIPTION:Deze cursus is voor mensen die al een beetje of nog niet handig zijn met Illustrator en Photoshop\, en die willen leren hoe ze eigen ontwerpen kunnen maken\, met name voor zeefdruk. Je leert een aantal basisvaardigheden\, weetjes en handigheidjes zodat je in staat bent om redelijk complexe ontwerpen in elkaar te zetten – al kan je natuurlijk niet alles leren in een paar lessen. Maar met een beetje basis handigheid is het makkelijker om hierna zelf verder te leren. \nWe kijken naar hoe je ontwerpen kunt voorbereiden voor zeefdruk\, want we zitten tenslotte midden in een zeefdruk werkplaats. De laatste les – op vrijdagochtend 25 oktober – ga je een eigen ontwerp zeefdrukken in 2 lagen/kleuren. Hierna kan je echter nog niet zelfstandig zeefdrukken\, daarvoor heb je een zeefdruk basiscursus nodig. \nDeze cursus vindt plaats op zes vrijdagochtenden\, telkens 10-13u: \n\nVrijdagochtend 20 september 2024\nVrijdagochtend 27 september\nVrijdagochtend 4 oktober\nVrijdagochtend 11 oktober\nVrijdagochtend 18 oktober\nVrijdagochtend 25 oktober\n\nJe kunt fantastische strakke vormen maken met Adobe Illustrator\, maar het is – zeker in het begin – niet een programma dat je makkelijk oppakt. Met Adobe Photoshop kan je foto’s rasteren (grijstinten omzetten in punten) of omzetten naar alleen wit en 100% zwart\, zodat je ze kunt zeefdrukken. Scan tekeningen in en bewerk ze. Combineer alles naar eigen smaak en inzicht. Met Illustrator en Photoshop zijn de mogelijkheden eindeloos. \nNeem zelf een laptop mee (mac of windows) met daarop Adobe Illustrator en Photoshop al geïnstalleerd\, liefst de meest recente versie. Misschien heb je nog een studerend neefje of nichtje met een goedkopere studentlicentie? 🙂 \nWe beginnen bij de basis\, en elke week is er een klein opdrachtje om te oefenen wat je net geleerd hebt. Ook wordt er voor inspiratie gekeken naar het werk van hedendaagse ontwerpers. Omdat we een kleine groep hebben – maximaal 8 cursisten – is er ruim de gelegenheid voor persoonlijke begeleiding en aandacht. \nEsther is behalve zeefdrukker ook grafisch ontwerper sinds 1992\, en ze geeft les op het Mediacollege Amsterdam. Ze is dus ervaren in het werken met en het uitleggen van Illustrator en Photoshop.
URL:https://www.zeefdrukles.nl/cursussen/cursus/adobe-illustrator-basiscursus_6xvrijdagochtend-vanaf-20sept2024/
LOCATION:Zeefdrukles\, Veemkade 570\, Amsterdam\, 1019BL\, Nederland
CATEGORIES:Adobe Illustrator,Adobe Photoshop,geen ervaring vereist
ATTACH;FMTTYPE=image/jpeg:https://www.zeefdrukles.nl/wp-content/uploads/2024/05/Ontwerpen-voor-zeefdruk_tegels-illustrator-1-scaled-1.jpg
ORGANIZER;CN="Zeefdrukles":MAILTO:esther@zeefdrukles.nl
GEO:52.3759286;4.9278907
X-APPLE-STRUCTURED-LOCATION;VALUE=URI;X-ADDRESS=Zeefdrukles Veemkade 570 Amsterdam 1019BL Nederland;X-APPLE-RADIUS=500;X-TITLE=Veemkade 570:geo:4.9278907,52.3759286
END:VEVENT
END:VCALENDAR